BEGIN:VCALENDAR
VERSION:2.0
PRODID:-//LABIDECOM ECA-USP - ECPv6.15.20//NONSGML v1.0//EN
CALSCALE:GREGORIAN
METHOD:PUBLISH
X-ORIGINAL-URL:https://labidecom.eca.usp.br
X-WR-CALDESC:Eventos para LABIDECOM ECA-USP
REFRESH-INTERVAL;VALUE=DURATION:PT1H
X-Robots-Tag:noindex
X-PUBLISHED-TTL:PT1H
BEGIN:VTIMEZONE
TZID:UTC
BEGIN:STANDARD
TZOFFSETFROM:+0000
TZOFFSETTO:+0000
TZNAME:UTC
DTSTART:20240101T000000
END:STANDARD
END:VTIMEZONE
BEGIN:VEVENT
DTSTART;TZID=UTC:20251126T100000
DTEND;TZID=UTC:20251127T170000
DTSTAMP:20260424T152942
CREATED:20251110T212407Z
LAST-MODIFIED:20251110T212407Z
UID:3240-1764151200-1764262800@labidecom.eca.usp.br
SUMMARY:IA em Debate: Comunicação\, Educação e Artes
DESCRIPTION:O seminário “IA em Debate: Comunicação\, Educação e Artes”\, promovido pelo Departamento de Comunicação e Artes da ECA-USP nos dias 26 e 27 de novembro\, propõe uma reflexão crítica sobre o uso da inteligência artificial generativa em contextos acadêmicos\, artísticos e comunicacionais. Diante da crescente presença dessas tecnologias na universidade\, no mercado e nas artes\, o evento busca discutir seus impactos comunicacionais\, criativos\, educacionais\, ambientais e geopolíticos\, com foco especial nas implicações éticas\, políticas e pedagógicas no Brasil.Os organizadores destacam a importância de analisar as consequências coletivas da adoção da IA\, como a datificação de processos humanos\, o controle social e as transformações na criação e produção do conhecimento. O seminário pretende oferecer à comunidade acadêmica instrumentos teóricos e práticos para um uso crítico da IA\, estimulando estratégias pedagógicas que valorizem o pensamento crítico\, a contextualização e o debate presencial\, elementos essenciais neste novo cenário tecnológico. \n  \nData: 26 e 27 de novembro de 2024\nLocal: Auditório Lupe Cotrim\, 1º andar\, ECA-USP\nEndereço: Av. Prof. Lúcio Martins Rodrigues\, 443\, Cidade Universitária\, São Paulo-SP\nFormato: Híbrido (presencial e online)\nTransmissão: YouTube Labidecom (https://www.youtube.com/@labidecom)\nInscrições: Gratuitas\, no link: https://forms.gle/DhnH1sYHtM3ynqeH7
URL:https://labidecom.eca.usp.br/agenda/ia-em-debate-comunicacao-educacao-e-artes/
END:VEVENT
END:VCALENDAR